BEGIN:VCALENDAR
PRODID:-//spiritec//spiritec media library//EN
VERSION:2.0
METHOD:PUBLISH
BEGIN:VEVENT
UID:ical-2026-12-23-2106
DTSTART:20261223T183000Z
DTSTAMP:20260423T143841Z
LOCATION:Großes Haus
SUMMARY:Alles Liebe!
DESCRIPTION:
CREATED:20260423T143841Z
DTEND:20261223T210000Z
END:VEVENT
END:VCALENDAR
