BEGIN:VCALENDAR
PRODID:-//spiritec//spiritec media library//EN
VERSION:2.0
METHOD:PUBLISH
BEGIN:VEVENT
UID:ical-2026-12-05-2105
DTSTART:20261205T183000Z
DTSTAMP:20260423T143910Z
LOCATION:Großes Haus
SUMMARY:Alles Liebe!
DESCRIPTION:
CREATED:20260423T143910Z
DTEND:20261205T210000Z
END:VEVENT
END:VCALENDAR
