BEGIN:VCALENDAR
PRODID:-//spiritec//spiritec media library//EN
VERSION:2.0
METHOD:PUBLISH
BEGIN:VEVENT
UID:ical-2026-08-23-2103
DTSTART:20260823T140000Z
DTSTAMP:20260423T121444Z
LOCATION:Großes Haus
SUMMARY:Die Zauberflöte
DESCRIPTION:
CREATED:20260423T121444Z
DTEND:20260823T165000Z
END:VEVENT
END:VCALENDAR
