BEGIN:VCALENDAR
PRODID:-//spiritec//spiritec media library//EN
VERSION:2.0
METHOD:PUBLISH
BEGIN:VEVENT
UID:ical-2026-09-20-2100
DTSTART:20260920T160000Z
DTSTAMP:20260423T125930Z
LOCATION:Großes Haus
SUMMARY:La traviata
DESCRIPTION:
CREATED:20260423T125930Z
DTEND:20260920T183000Z
END:VEVENT
END:VCALENDAR
