BEGIN:VCALENDAR
PRODID:-//spiritec//spiritec media library//EN
VERSION:2.0
METHOD:PUBLISH
BEGIN:VEVENT
UID:ical-2026-12-13-2082
DTSTART:20261213T100000Z
DTSTAMP:20260423T130627Z
LOCATION:Großes Haus
SUMMARY:Herr Bello und das blaue Wunder
DESCRIPTION:
CREATED:20260423T130627Z
DTEND:20261213T100000Z
END:VEVENT
END:VCALENDAR
