BEGIN:VCALENDAR
PRODID:-//spiritec//spiritec media library//EN
VERSION:2.0
METHOD:PUBLISH
BEGIN:VEVENT
UID:ical-2026-12-06-2081
DTSTART:20261206T093000Z
DTSTAMP:20260423T130647Z
LOCATION:Großes Haus
SUMMARY:Herr Bello und das blaue Wunder
DESCRIPTION:
CREATED:20260423T130647Z
DTEND:20261206T093000Z
END:VEVENT
END:VCALENDAR
