BEGIN:VCALENDAR
PRODID:-//spiritec//spiritec media library//EN
VERSION:2.0
METHOD:PUBLISH
BEGIN:VEVENT
UID:ical-2026-11-15-2077
DTSTART:20261115T150000Z
DTSTAMP:20260423T130647Z
LOCATION:Großes Haus
SUMMARY:Herr Bello und das blaue Wunder
DESCRIPTION:
CREATED:20260423T130647Z
DTEND:20261115T150000Z
END:VEVENT
END:VCALENDAR
