BEGIN:VCALENDAR
PRODID:-//spiritec//spiritec media library//EN
VERSION:2.0
METHOD:PUBLISH
BEGIN:VEVENT
UID:ical-2026-11-08-2075
DTSTART:20261108T100000Z
DTSTAMP:20260423T130530Z
LOCATION:Großes Haus
SUMMARY:Herr Bello und das blaue Wunder
DESCRIPTION:
CREATED:20260423T130530Z
DTEND:20261108T100000Z
END:VEVENT
END:VCALENDAR
