BEGIN:VCALENDAR
PRODID:-//spiritec//spiritec media library//EN
VERSION:2.0
METHOD:PUBLISH
BEGIN:VEVENT
UID:ical-2026-08-30-2068
DTSTART:20260830T160000Z
DTSTAMP:20260423T125722Z
LOCATION:Großes Haus
SUMMARY:Summertime
DESCRIPTION:
CREATED:20260423T125722Z
DTEND:20260830T173500Z
END:VEVENT
END:VCALENDAR
