BEGIN:VCALENDAR
PRODID:-//spiritec//spiritec media library//EN
VERSION:2.0
METHOD:PUBLISH
BEGIN:VEVENT
UID:ical-2026-06-23-2056
DTSTART:20260623T173000Z
DTSTAMP:20260421T131326Z
LOCATION:Studio
SUMMARY:Drama für den Kopf. (Ein Klamauk)
DESCRIPTION:
CREATED:20260421T131326Z
DTEND:20260623T173000Z
END:VEVENT
END:VCALENDAR
