BEGIN:VCALENDAR
PRODID:-//spiritec//spiritec media library//EN
VERSION:2.0
METHOD:PUBLISH
BEGIN:VEVENT
UID:ical-2026-06-20-2055
DTSTART:20260620T140000Z
DTSTAMP:20260421T131254Z
LOCATION:Studio
SUMMARY:In der Pelle der Zeit: Wurstgeschichten
DESCRIPTION:
CREATED:20260421T131254Z
DTEND:20260620T140000Z
END:VEVENT
END:VCALENDAR
