BEGIN:VCALENDAR
PRODID:-//spiritec//spiritec media library//EN
VERSION:2.0
METHOD:PUBLISH
BEGIN:VEVENT
UID:ical-2026-06-21-2054
DTSTART:20260621T180000Z
DTSTAMP:20260421T131414Z
LOCATION:Studio
SUMMARY:Die kahle Sängerin
DESCRIPTION:
CREATED:20260421T131414Z
DTEND:20260621T180000Z
END:VEVENT
END:VCALENDAR
