BEGIN:VCALENDAR
PRODID:-//spiritec//spiritec media library//EN
VERSION:2.0
METHOD:PUBLISH
BEGIN:VEVENT
UID:ical-2026-06-18-2052
DTSTART:20260618T130000Z
DTSTAMP:20260421T131209Z
LOCATION:Probebühne Wartburg
SUMMARY:Transit
DESCRIPTION:
CREATED:20260421T131209Z
DTEND:20260618T160000Z
END:VEVENT
END:VCALENDAR
