BEGIN:VCALENDAR
PRODID:-//spiritec//spiritec media library//EN
VERSION:2.0
METHOD:PUBLISH
BEGIN:VEVENT
UID:ical-2026-06-18-2049
DTSTART:20260618T180000Z
DTSTAMP:20260421T131201Z
LOCATION:Wartburg
SUMMARY:MIA SAN MIA
DESCRIPTION:
CREATED:20260421T131201Z
DTEND:20260618T180000Z
END:VEVENT
END:VCALENDAR
