BEGIN:VCALENDAR
PRODID:-//spiritec//spiritec media library//EN
VERSION:2.0
METHOD:PUBLISH
BEGIN:VEVENT
UID:ical-2026-06-18-2048
DTSTART:20260618T160000Z
DTSTAMP:20260421T131210Z
LOCATION:Studio
SUMMARY:High – Irgendwer hat immer irgendwas
DESCRIPTION:
CREATED:20260421T131210Z
DTEND:20260618T170000Z
END:VEVENT
END:VCALENDAR
