BEGIN:VCALENDAR
PRODID:-//spiritec//spiritec media library//EN
VERSION:2.0
METHOD:PUBLISH
BEGIN:VEVENT
UID:ical-2026-06-18-2047
DTSTART:20260618T090000Z
DTSTAMP:20260421T131243Z
LOCATION:Studio
SUMMARY:High – Irgendwer hat immer irgendwas
DESCRIPTION:
CREATED:20260421T131243Z
DTEND:20260618T100000Z
END:VEVENT
END:VCALENDAR
