BEGIN:VCALENDAR
PRODID:-//spiritec//spiritec media library//EN
VERSION:2.0
METHOD:PUBLISH
BEGIN:VEVENT
UID:ical-2026-06-17-2045
DTSTART:20260617T160000Z
DTSTAMP:20260421T131200Z
LOCATION:Foyer Großes Haus
SUMMARY:Eröffnung Hessische Theatertage
DESCRIPTION:
CREATED:20260421T131200Z
DTEND:20260617T160000Z
END:VEVENT
END:VCALENDAR
