BEGIN:VCALENDAR
PRODID:-//spiritec//spiritec media library//EN
VERSION:2.0
METHOD:PUBLISH
BEGIN:VEVENT
UID:ical-2026-06-27-2044
DTSTART:20260627T190000Z
DTSTAMP:20260421T131253Z
LOCATION:Foyer Großes Haus
SUMMARY:Abschlussparty und Preisverleihung
DESCRIPTION:
CREATED:20260421T131253Z
DTEND:20260627T190000Z
END:VEVENT
END:VCALENDAR
