BEGIN:VCALENDAR
PRODID:-//spiritec//spiritec media library//EN
VERSION:2.0
METHOD:PUBLISH
BEGIN:VEVENT
UID:ical-2026-06-21-2042
DTSTART:20260621T190000Z
DTSTAMP:20260421T121114Z
LOCATION:Kleines Haus
SUMMARY:Über die Notwendigkeit, dass ein See verschwindet
DESCRIPTION:
CREATED:20260421T121114Z
DTEND:20260621T200500Z
END:VEVENT
END:VCALENDAR
