BEGIN:VCALENDAR
PRODID:-//spiritec//spiritec media library//EN
VERSION:2.0
METHOD:PUBLISH
BEGIN:VEVENT
UID:ical-2026-06-12-2041
DTSTART:20260612T160000Z
DTSTAMP:20260421T123442Z
LOCATION:Wartburg
SUMMARY:Wo die Magnolien Urlaub machen
DESCRIPTION:
CREATED:20260421T123442Z
DTEND:20260612T160000Z
END:VEVENT
END:VCALENDAR
