BEGIN:VCALENDAR
PRODID:-//spiritec//spiritec media library//EN
VERSION:2.0
METHOD:PUBLISH
BEGIN:VEVENT
UID:ical-2026-06-26-2040
DTSTART:20260626T180000Z
DTSTAMP:20260421T131243Z
LOCATION:Kleines Haus
SUMMARY:LEBENLIFEHAYAT!
DESCRIPTION:
CREATED:20260421T131243Z
DTEND:20260626T180000Z
END:VEVENT
END:VCALENDAR
