BEGIN:VCALENDAR
PRODID:-//spiritec//spiritec media library//EN
VERSION:2.0
METHOD:PUBLISH
BEGIN:VEVENT
UID:ical-2026-06-11-2037
DTSTART:20260611T173000Z
DTSTAMP:20260421T131241Z
LOCATION:Ort NN
SUMMARY:Farm der Tiere
DESCRIPTION:
CREATED:20260421T131241Z
DTEND:20260611T173000Z
END:VEVENT
END:VCALENDAR
