BEGIN:VCALENDAR
PRODID:-//spiritec//spiritec media library//EN
VERSION:2.0
METHOD:PUBLISH
BEGIN:VEVENT
UID:ical-2026-06-20-2036
DTSTART:20260620T173000Z
DTSTAMP:20260421T131324Z
LOCATION:Kleines Haus
SUMMARY:Detransition, Baby
DESCRIPTION:
CREATED:20260421T131324Z
DTEND:20260620T173000Z
END:VEVENT
END:VCALENDAR
