BEGIN:VCALENDAR
PRODID:-//spiritec//spiritec media library//EN
VERSION:2.0
METHOD:PUBLISH
BEGIN:VEVENT
UID:ical-2026-06-21-2033
DTSTART:20260621T091500Z
DTSTAMP:20260421T131211Z
LOCATION:Treffpunkt Kassenhalle
SUMMARY:Backstage für Alle
DESCRIPTION:
CREATED:20260421T131211Z
DTEND:20260621T104500Z
END:VEVENT
END:VCALENDAR
