BEGIN:VCALENDAR
PRODID:-//spiritec//spiritec media library//EN
VERSION:2.0
METHOD:PUBLISH
BEGIN:VEVENT
UID:ical-2027-01-01-2029
DTSTART:20270101T160000Z
DTSTAMP:20260423T130533Z
LOCATION:Großes Haus
SUMMARY:Neujahrskonzert
DESCRIPTION:
CREATED:20260423T130533Z
DTEND:20270101T160000Z
END:VEVENT
END:VCALENDAR
