BEGIN:VCALENDAR
PRODID:-//spiritec//spiritec media library//EN
VERSION:2.0
METHOD:PUBLISH
BEGIN:VEVENT
UID:ical-2026-06-21-2003
DTSTART:20260621T143000Z
DTSTAMP:20260421T131121Z
LOCATION:Treffpunkt Bühneneingang
SUMMARY:Szenenwechsel
DESCRIPTION:
CREATED:20260421T131121Z
DTEND:20260621T143000Z
END:VEVENT
END:VCALENDAR
