BEGIN:VCALENDAR
PRODID:-//spiritec//spiritec media library//EN
VERSION:2.0
METHOD:PUBLISH
BEGIN:VEVENT
UID:ical-2026-06-11-2002
DTSTART:20260611T163000Z
DTSTAMP:20260421T131122Z
LOCATION:Foyer Großes Haus
SUMMARY:Premierenwerkstatt
DESCRIPTION:
CREATED:20260421T131122Z
DTEND:20260611T163000Z
END:VEVENT
END:VCALENDAR
