BEGIN:VCALENDAR
PRODID:-//spiritec//spiritec media library//EN
VERSION:2.0
METHOD:PUBLISH
BEGIN:VEVENT
UID:ical-2026-06-20-2001
DTSTART:20260620T080000Z
DTSTAMP:20260421T131122Z
LOCATION:Großer Ballettsaal
SUMMARY:Antanzen
DESCRIPTION:
CREATED:20260421T131122Z
DTEND:20260620T080000Z
END:VEVENT
END:VCALENDAR
