BEGIN:VCALENDAR
PRODID:-//spiritec//spiritec media library//EN
VERSION:2.0
METHOD:PUBLISH
BEGIN:VEVENT
UID:ical-2026-06-20-2000
DTSTART:20260620T130000Z
DTSTAMP:20260421T131123Z
LOCATION:Orchesterproberaum
SUMMARY:Spiel & Musik
DESCRIPTION:
CREATED:20260421T131123Z
DTEND:20260620T130000Z
END:VEVENT
END:VCALENDAR
