BEGIN:VCALENDAR
PRODID:-//spiritec//spiritec media library//EN
VERSION:2.0
METHOD:PUBLISH
BEGIN:VEVENT
UID:ical-2026-06-13-1998
DTSTART:20260613T080000Z
DTSTAMP:20260421T131201Z
LOCATION:Foyer Großes Haus
SUMMARY:Yoga im Foyer
DESCRIPTION:
CREATED:20260421T131201Z
DTEND:20260613T080000Z
END:VEVENT
END:VCALENDAR
