BEGIN:VCALENDAR
PRODID:-//spiritec//spiritec media library//EN
VERSION:2.0
METHOD:PUBLISH
BEGIN:VEVENT
UID:ical-2026-06-16-1997
DTSTART:20260616T180000Z
DTSTAMP:20260421T131120Z
LOCATION:Studio
SUMMARY:Zwei Soldaten
DESCRIPTION:
CREATED:20260421T131120Z
DTEND:20260616T190000Z
END:VEVENT
END:VCALENDAR
