BEGIN:VCALENDAR
PRODID:-//spiritec//spiritec media library//EN
VERSION:2.0
METHOD:PUBLISH
BEGIN:VEVENT
UID:ical-2026-06-04-1996
DTSTART:20260604T180000Z
DTSTAMP:20260421T131209Z
LOCATION:Studio
SUMMARY:Zwei Soldaten
DESCRIPTION:
CREATED:20260421T131209Z
DTEND:20260604T190000Z
END:VEVENT
END:VCALENDAR
