BEGIN:VCALENDAR
PRODID:-//spiritec//spiritec media library//EN
VERSION:2.0
METHOD:PUBLISH
BEGIN:VEVENT
UID:ical-2026-06-21-1995
DTSTART:20260621T160000Z
DTSTAMP:20260421T120901Z
LOCATION:Kleines Haus
SUMMARY:Über die Notwendigkeit, dass ein See verschwindet
DESCRIPTION:
CREATED:20260421T120901Z
DTEND:20260621T170500Z
END:VEVENT
END:VCALENDAR
