BEGIN:VCALENDAR
PRODID:-//spiritec//spiritec media library//EN
VERSION:2.0
METHOD:PUBLISH
BEGIN:VEVENT
UID:ical-2026-06-07-1994
DTSTART:20260607T160000Z
DTSTAMP:20260421T120905Z
LOCATION:Kleines Haus
SUMMARY:Über die Notwendigkeit, dass ein See verschwindet
DESCRIPTION:
CREATED:20260421T120905Z
DTEND:20260607T170500Z
END:VEVENT
END:VCALENDAR
