BEGIN:VCALENDAR
PRODID:-//spiritec//spiritec media library//EN
VERSION:2.0
METHOD:PUBLISH
BEGIN:VEVENT
UID:ical-2026-06-06-1993
DTSTART:20260606T173000Z
DTSTAMP:20260421T121020Z
LOCATION:Kleines Haus
SUMMARY:Über die Notwendigkeit, dass ein See verschwindet
DESCRIPTION:
CREATED:20260421T121020Z
DTEND:20260606T183500Z
END:VEVENT
END:VCALENDAR
