BEGIN:VCALENDAR
PRODID:-//spiritec//spiritec media library//EN
VERSION:2.0
METHOD:PUBLISH
BEGIN:VEVENT
UID:ical-2026-06-10-1992
DTSTART:20260610T080000Z
DTSTAMP:20260421T121000Z
LOCATION:Wartburg
SUMMARY:Pembo – Halb und halb macht doppelt glücklich!
DESCRIPTION:
CREATED:20260421T121000Z
DTEND:20260610T080000Z
END:VEVENT
END:VCALENDAR
