BEGIN:VCALENDAR
PRODID:-//spiritec//spiritec media library//EN
VERSION:2.0
METHOD:PUBLISH
BEGIN:VEVENT
UID:ical-2026-06-09-1991
DTSTART:20260609T150000Z
DTSTAMP:20260421T121142Z
LOCATION:Wartburg
SUMMARY:Pembo – Halb und halb macht doppelt glücklich!
DESCRIPTION:
CREATED:20260421T121142Z
DTEND:20260609T150000Z
END:VEVENT
END:VCALENDAR
