BEGIN:VCALENDAR
PRODID:-//spiritec//spiritec media library//EN
VERSION:2.0
METHOD:PUBLISH
BEGIN:VEVENT
UID:ical-2026-06-09-1990
DTSTART:20260609T080000Z
DTSTAMP:20260421T120901Z
LOCATION:Wartburg
SUMMARY:Pembo – Halb und halb macht doppelt glücklich!
DESCRIPTION:
CREATED:20260421T120901Z
DTEND:20260609T080000Z
END:VEVENT
END:VCALENDAR
