BEGIN:VCALENDAR
PRODID:-//spiritec//spiritec media library//EN
VERSION:2.0
METHOD:PUBLISH
BEGIN:VEVENT
UID:ical-2026-06-14-1989
DTSTART:20260614T160000Z
DTSTAMP:20260421T122627Z
LOCATION:Wartburg
SUMMARY:Wo die Magnolien Urlaub machen
DESCRIPTION:
CREATED:20260421T122627Z
DTEND:20260614T160000Z
END:VEVENT
END:VCALENDAR
