BEGIN:VCALENDAR
PRODID:-//spiritec//spiritec media library//EN
VERSION:2.0
METHOD:PUBLISH
BEGIN:VEVENT
UID:ical-2026-06-09-1988
DTSTART:20260609T173000Z
DTSTAMP:20260421T131413Z
LOCATION:Foyer Großes Haus
SUMMARY:Kulissengeplauder
DESCRIPTION:
CREATED:20260421T131413Z
DTEND:20260609T173000Z
END:VEVENT
END:VCALENDAR
