BEGIN:VCALENDAR
PRODID:-//spiritec//spiritec media library//EN
VERSION:2.0
METHOD:PUBLISH
BEGIN:VEVENT
UID:ical-2026-06-18-1987
DTSTART:20260618T173000Z
DTSTAMP:20260421T131211Z
LOCATION:Kleines Haus
SUMMARY:Futur4
DESCRIPTION:
CREATED:20260421T131211Z
DTEND:20260618T173000Z
END:VEVENT
END:VCALENDAR
