BEGIN:VCALENDAR
PRODID:-//spiritec//spiritec media library//EN
VERSION:2.0
METHOD:PUBLISH
BEGIN:VEVENT
UID:ical-2026-06-27-1985
DTSTART:20260627T160000Z
DTSTAMP:20260421T131202Z
LOCATION:Wartburg
SUMMARY:Farm der Tiere
DESCRIPTION:
CREATED:20260421T131202Z
DTEND:20260627T160000Z
END:VEVENT
END:VCALENDAR
