BEGIN:VCALENDAR
PRODID:-//spiritec//spiritec media library//EN
VERSION:2.0
METHOD:PUBLISH
BEGIN:VEVENT
UID:ical-2026-06-10-1984
DTSTART:20260610T173000Z
DTSTAMP:20260421T123731Z
LOCATION:Kleines Haus
SUMMARY:Entrückt
DESCRIPTION:
CREATED:20260421T123731Z
DTEND:20260610T193000Z
END:VEVENT
END:VCALENDAR
