BEGIN:VCALENDAR
PRODID:-//spiritec//spiritec media library//EN
VERSION:2.0
METHOD:PUBLISH
BEGIN:VEVENT
UID:ical-2026-06-02-1983
DTSTART:20260602T160000Z
DTSTAMP:20260421T131210Z
LOCATION:Probebühne Wartburg
SUMMARY:do it: dienstag
DESCRIPTION:
CREATED:20260421T131210Z
DTEND:20260602T160000Z
END:VEVENT
END:VCALENDAR
