BEGIN:VCALENDAR
PRODID:-//spiritec//spiritec media library//EN
VERSION:2.0
METHOD:PUBLISH
BEGIN:VEVENT
UID:ical-2026-06-16-1982
DTSTART:20260616T160000Z
DTSTAMP:20260421T131121Z
LOCATION:Probebühne Wartburg
SUMMARY:do it: dienstag
DESCRIPTION:
CREATED:20260421T131121Z
DTEND:20260616T160000Z
END:VEVENT
END:VCALENDAR
