BEGIN:VCALENDAR
PRODID:-//spiritec//spiritec media library//EN
VERSION:2.0
METHOD:PUBLISH
BEGIN:VEVENT
UID:ical-2026-06-07-1981
DTSTART:20260607T160000Z
DTSTAMP:20260421T104301Z
LOCATION:Studio
SUMMARY:Actor's Studio: KETTENFETT
DESCRIPTION:
CREATED:20260421T104301Z
DTEND:20260607T165000Z
END:VEVENT
END:VCALENDAR
