BEGIN:VCALENDAR
PRODID:-//spiritec//spiritec media library//EN
VERSION:2.0
METHOD:PUBLISH
BEGIN:VEVENT
UID:ical-2026-06-03-1980
DTSTART:20260603T173000Z
DTSTAMP:20260421T131414Z
LOCATION:Kleines Haus
SUMMARY:Wie es euch gefällt
DESCRIPTION:
CREATED:20260421T131414Z
DTEND:20260603T194000Z
END:VEVENT
END:VCALENDAR
