BEGIN:VCALENDAR
PRODID:-//spiritec//spiritec media library//EN
VERSION:2.0
METHOD:PUBLISH
BEGIN:VEVENT
UID:ical-2026-06-23-1978
DTSTART:20260623T073000Z
DTSTAMP:20260421T121852Z
LOCATION:Wartburg
SUMMARY:Troja!
DESCRIPTION:
CREATED:20260421T121852Z
DTEND:20260623T083500Z
END:VEVENT
END:VCALENDAR
