BEGIN:VCALENDAR
PRODID:-//spiritec//spiritec media library//EN
VERSION:2.0
METHOD:PUBLISH
BEGIN:VEVENT
UID:ical-2026-06-13-1977
DTSTART:20260613T160000Z
DTSTAMP:20260421T131325Z
LOCATION:Studio
SUMMARY:Actor's Studio: Tatortreiniger Vol.2
DESCRIPTION:
CREATED:20260421T131325Z
DTEND:20260613T170500Z
END:VEVENT
END:VCALENDAR
