BEGIN:VCALENDAR
PRODID:-//spiritec//spiritec media library//EN
VERSION:2.0
METHOD:PUBLISH
BEGIN:VEVENT
UID:ical-2026-06-25-1975
DTSTART:20260625T080000Z
DTSTAMP:20260421T121129Z
LOCATION:Wartburg
SUMMARY:Im Spiegelsaal
DESCRIPTION:
CREATED:20260421T121129Z
DTEND:20260625T080000Z
END:VEVENT
END:VCALENDAR
